BEGIN:VCALENDAR
VERSION:2.0
PRODID:-//ChamberMaster//Event Calendar 2.0//EN
METHOD:PUBLISH
X-PUBLISHED-TTL:P3D
REFRESH-INTERVAL:P3D
CALSCALE:GREGORIAN
BEGIN:VEVENT
DTSTART:20180510T113000Z
DTEND:20180510T143000Z
X-MICROSOFT-CDO-ALLDAYEVENT:FALSE
SUMMARY:10th Annual Mayors Breakfast
DESCRIPTION:Fifteen Mayors from the Cities and the Towns in Brevard County and Sebastian will give an update on the development and their respective Municipalities. Plan to attend this high profile gathering to meet the officials and learn the latest news.\n\nOpen to the Public.
X-ALT-DESC;FMTTYPE=text/html:Fifteen Mayors from the Cities and the Towns in Brevard County and Sebastian will give an update on the development and their respective Municipalities. Plan to attend this high profile gathering to meet the officials and learn the latest news.<br />\nOpen to the Public.
LOCATION:Crowne Plaza Melbourne 2605 North A1A\, Indialantic
UID:e.469.10604
SEQUENCE:3
DTSTAMP:20260421T162334Z
URL:https://new.greaterpalmbaychamber.com/events/details/10th-annual-mayors-breakfast-10604
END:VEVENT

END:VCALENDAR
