BEGIN:VCALENDAR
VERSION:2.0
PRODID:-//ChamberMaster//Event Calendar 2.0//EN
METHOD:PUBLISH
X-PUBLISHED-TTL:P3D
REFRESH-INTERVAL:P3D
CALSCALE:GREGORIAN
BEGIN:VEVENT
DTSTART:20221207T160000Z
DTEND:20221207T180000Z
X-MICROSOFT-CDO-ALLDAYEVENT:FALSE
SUMMARY:Holiday Chamber Celebration & Board Installation Luncheon
DESCRIPTION:Look back to the year in review and look forward to 2023 as we install the Board of Directors and celebrate Businesses and these Holidays!\n\n\n\nEvent sponsored by Elevate Events & Design\, Yellow Dog Caf  & Seniors Helping Seniors.
X-ALT-DESC;FMTTYPE=text/html:Look back to the year in review and look forward to 2023 as we install the Board of Directors and celebrate Businesses and these Holidays!<br />\n<br />\nEvent sponsored by <a href="https://elevateeventsanddesign.com/">Elevate Events &amp\; Design</a>\, <a href="https://yellowdogcafe.com/">Yellow Dog Caf&eacute\;</a>&nbsp\;&amp\; <a href="https://seniorshelpingseniors.com/">Seniors Helping Seniors</a>.
LOCATION:Promise In Brevard
UID:e.469.16577
SEQUENCE:3
DTSTAMP:20260420T064001Z
URL:https://new.greaterpalmbaychamber.com/events/details/holiday-chamber-celebration-board-installation-luncheon-12-14-2022-16577
END:VEVENT

END:VCALENDAR
