BEGIN:VCALENDAR
VERSION:2.0
PRODID:-//ChamberMaster//Event Calendar 2.0//EN
METHOD:PUBLISH
X-PUBLISHED-TTL:P3D
REFRESH-INTERVAL:P3D
CALSCALE:GREGORIAN
BEGIN:VEVENT
DTSTART:20190501T151500Z
DTEND:20190501T170000Z
X-MICROSOFT-CDO-ALLDAYEVENT:FALSE
SUMMARY:Monthly Luncheon
DESCRIPTION:Join us for the Greater Palm Bay Chamber's Monthly Membership Luncheon. The Keynote Speaker will be Keith Winsten\, Executive Director\, Brevard Zoo.\n\n \n\nEnjoy lunch while networking with friends\, new members\, local businesses and city officials.\n\n \n\nThis is a our premier networking event\, so invite a colleague bring your business cards.
X-ALT-DESC;FMTTYPE=text/html:<div>Join us for the Greater Palm Bay Chamber&#39\;s Monthly Membership Luncheon. The Keynote Speaker will be&nbsp\;<strong>Keith Winsten</strong>\, Executive Director\, <strong>Brevard Zoo</strong>.</div>\n\n<div>&nbsp\;</div>\n\n<div>Enjoy lunch while networking with friends\, new members\, local businesses and city officials.<br />\n&nbsp\;</div>\n\n<div>This is a our premier networking event\, so invite a colleague bring your business cards.</div>\n
LOCATION:Life Care Center of Palm Bay (off Malabar Rd)\, 175 Villa Nueva Ave. NE Palm Bay\, FL 32907
UID:e.469.8781
SEQUENCE:3
DTSTAMP:20260424T194530Z
URL:https://new.greaterpalmbaychamber.com/events/details/monthly-luncheon-05-01-2019-8781
END:VEVENT

END:VCALENDAR
