BEGIN:VCALENDAR
VERSION:2.0
PRODID:-//ChamberMaster//Event Calendar 2.0//EN
METHOD:PUBLISH
X-PUBLISHED-TTL:P3D
REFRESH-INTERVAL:P3D
CALSCALE:GREGORIAN
BEGIN:VEVENT
DTSTART:20200314T140000Z
DTEND:20200314T190000Z
X-MICROSOFT-CDO-ALLDAYEVENT:FALSE
SUMMARY:Postponed: Lifestyle\, Health & Wellness Expo
DESCRIPTION:A day of lifestyle\, health & wellness topics\, which is open and free to the public. The day is committed to education\, awareness and health screenings. Sessions will be held with experts in their field to discuss current trends and wellness topics. Participants have the ability to ask questions of the experts. We will be kicking off the event with a Wellness Walk\, and a Fashion Show provided by Dillard's. As a sponsor or vendor\, you have access to potentially 1\,000+ attendees as they participate in the event and visit the Mall. \n\n\n\nPlease go to the registration button and get more information about tables and sponsorship opportunities.
X-ALT-DESC;FMTTYPE=text/html:A day of lifestyle\, health &amp\; wellness topics\, which is open and free to the public. The day is committed to education\, awareness and health screenings. Sessions will be held with experts in their field to discuss current trends and wellness topics. Participants have the ability to ask questions of the experts. We will be kicking off the event with a Wellness Walk\, and a Fashion Show provided by Dillard&#39\;s. As a sponsor or vendor\, you have access to potentially 1\,000+ attendees as they participate in the event and visit the Mall.&nbsp\;<br />\n<br />\nPlease go to the registration button and get more information about tables and sponsorship opportunities.
LOCATION:Melbourne Square Mall 1700 W New Haven Ave\, Melbourne\, FL
UID:e.469.15840
SEQUENCE:3
DTSTAMP:20260422T090326Z
URL:https://new.greaterpalmbaychamber.com/events/details/postponed-lifestyle-health-wellness-expo-15840
END:VEVENT

END:VCALENDAR
