BEGIN:VCALENDAR
VERSION:2.0
PRODID:-//ChamberMaster//Event Calendar 2.0//EN
METHOD:PUBLISH
X-PUBLISHED-TTL:P3D
REFRESH-INTERVAL:P3D
CALSCALE:GREGORIAN
BEGIN:VEVENT
DTSTART:20260502T140000Z
DTEND:20260502T180000Z
X-MICROSOFT-CDO-ALLDAYEVENT:FALSE
SUMMARY:The Children's Hunger Project Car Show
DESCRIPTION:Car Lovers   This One's For You! Join us for the 3rd Annual Children's Hunger Project Car Show hosted by Space Coast Mopars   a fun\, high-energy community event where your love for cars makes a real impact. ?? Saturday\, May 2\, 2026 ? 10:00 AM   2:00 PM ?? Riverside Presbyterian Church 3400 N. Atlantic Ave\, Cocoa Beach\, FL ?? All years\, makes & models welcome! Whether you're showing off your ride or just coming to enjoy the day\, there's something for everyone: ?? Live DJ & Music ?? Food Trucks ?? Raffles & 50/50 ?? Awards ?? "Show Off Your Ride" Feature ?? Right now\, The Children's Hunger Project provides weekend food packs for 4\,800 local children   and they need our help to keep that mission going. 100% of proceeds go directly to feeding kids. ?? Register your vehicle or come out and support! Bring your ride. Bring your friends. Make a difference. We can't wait to see you there!
X-ALT-DESC;FMTTYPE=text/html:<span style="font-size:16px\;"><span style="background-color: rgb(255\, 255\, 255)\; color: rgb(102\, 102\, 102)\; font-family: &quot\;open sans&quot\;\, sans-serif\;">Car Lovers &mdash\; This One&rsquo\;s For You! Join us for the 3rd Annual Children&rsquo\;s Hunger Project Car Show hosted by Space Coast Mopars &mdash\; a fun\, high-energy community event where your love for cars makes a real impact. ?? Saturday\, May 2\, 2026 ? 10:00 AM &ndash\; 2:00 PM ?? Riverside Presbyterian Church 3400 N. Atlantic Ave\, Cocoa Beach\, FL ?? All years\, makes &amp\; models welcome! Whether you&rsquo\;re showing off your ride or just coming to enjoy the day\, there&rsquo\;s something for everyone: ?? Live DJ &amp\; Music ?? Food Trucks ?? Raffles &amp\; 50/50 ?? Awards ?? &ldquo\;Show Off Your Ride&rdquo\; Feature ?? Right now\, The Children&rsquo\;s Hunger Project provides weekend food packs for 4\,800 local children &mdash\; and they need our help to keep that mission going. 100% of proceeds go directly to feeding kids. ?? Register your vehicle or come out and support! Bring your ride. Bring your friends. Make a difference. We can&rsquo\;t wait to see you there!</span></span>
LOCATION:Riverside Presbyterian Church
UID:e.469.21080
SEQUENCE:3
DTSTAMP:20260423T193457Z
URL:https://new.greaterpalmbaychamber.com/events/details/the-children-s-hunger-project-car-show-21080
END:VEVENT

END:VCALENDAR
