BEGIN:VCALENDAR
VERSION:2.0
PRODID:-//ChamberMaster//Event Calendar 2.0//EN
METHOD:PUBLISH
X-PUBLISHED-TTL:P3D
REFRESH-INTERVAL:P3D
CALSCALE:GREGORIAN
BEGIN:VEVENT
DTSTART:20200922T110000Z
DTEND:20200922T120000Z
X-MICROSOFT-CDO-ALLDAYEVENT:FALSE
SUMMARY:Tuesday Turtle Trek - Lifestyle\, Health & Wellness Week
DESCRIPTION:Tuesday Turtle Trek with Debra Foley\, Partners in Education Coordinator for Brevard Public Schools\, Meet at 7 a.m. at Tuckaway Shores on A1A for a lovely morning stroll on the beach.  We are hopeful that turtle sightings will occur.  FREE pedometers from VITAS for all participants.\n \n\n-------------------------------------------------------\n\n\n\nSponsorship Opportunities are available!\n\n \nPresenting Sponsor $1\,200 (Exclusive)\n\n \n\n? Full interview for a zoom presentation up to a half-hour \n\n? 1-3 minutes of ?Ad? time to promote your company during each day of the event.  Pre-recorded for a polished presentation\n\n? Company logo on all advanced marketing materials\, including event registration \n\n? Chamber Intel ads and the event promotion on the Palm Bay Chamber Website\n\n? Logo advertising on the Chamber?s digital outdoor sign for three weeks\n\n? Advertising of event with your logo on EveryThingBrevard.com and Spotlight Magazine as Presenting Sponsor\n\n? Advertising of event with your logo in Hometown News as Presenting Sponsor\n\n? 3 Social Media posts\n\n? Email blast of a company one-page ad\n\n? Sponsor logo on slide at the beginning and end of the event seen on Facebook Live\n\n? Placement of brochures and information in virtual swag bag & for the ?in-person? swag bags\n\n? Vitas logoed Pedometers given out at in-person events Monday ? Thursday and people can come into the Chamber office to pick them up afterwards for more advertising\n\n? Opportunity to hand out materials at each in-person activity\n\n \n\nPremium Sponsor $900 Members\, $1\,000 Future Members\n\n \n\n? 1-3 minutes of ?Ad? time to promote your company during each day of the event.  Pre-recorded for a polished presentation\n\n? Company logo on all advanced marketing materials\, including event registration \n\n? Chamber Intel ads and the event promotion on the Palm Bay Chamber Website\n\n? Logo advertising on the Chamber?s digital outdoor sign for one week\n\n? Advertising of event with your logo on EveryThingBrevard.com \n\n? Advertising of event with your logo in Hometown News \n\n? Sponsor logo on slide at the beginning and end of the event seen on Facebook Live\n\n? 3 Social Media Posts\n\n? Placement of brochures and information in virtual swag bag and for the ?in-person? swag bags\n\n? Opportunity to hand out materials at each in-person activity\n\n \n\nTable Host Sponsor $200 Members\, $250 Future Members\n\n \n\n? 1 minute ?Ad? during one day?s webinar\n\n? Sponsor logo on slide at the beginning and end of the event seen on Facebook Live\n\n? Logo on website event page\n\n? 3 Social Media Posts for your company\n\n? Placement of brochures and information in virtual swag bag and for the ?in-person? swag bags\n\n? Opportunity to hand out materials at each in-person activity\n\n \n\nDuring the Disaster Recovery Week\, the 5 days videos had a combined viewing of 4\,152\, reaching over 10\,000 people.\n\n \n\nBack2Business Campaign consisted of 21 videos watched by over 16\,000 people reaching over 30\,000 people.\n\n \n\nThis is a great investment of your marketing dollars!!!
X-ALT-DESC;FMTTYPE=text/html:<div><strong>Tuesday Turtle Trek&nbsp\;</strong>with&nbsp\;<u>Debra Foley\, Partners in Education Coordinator for Brevard Public Schools</u>\, Meet at 7 a.m. at Tuckaway Shores on A1A for a lovely morning stroll on the beach.&nbsp\; We are hopeful that turtle sightings will occur.&nbsp\; FREE pedometers from VITAS for all participants.</div>\n&nbsp\;\n\n<div>-------------------------------------------------------<br />\n<br />\n<span style="color:#0000FF\;"><strong>Sponsorship Opportunities are available!</strong></span><br />\n&nbsp\;\n<div><strong>Presenting Sponsor $1\,200 (Exclusive)</strong></div>\n\n<div>&nbsp\;</div>\n\n<div>?<span style="white-space:pre"> </span>Full interview for a zoom presentation up to a half-hour&nbsp\;</div>\n\n<div>?<span style="white-space:pre"> </span>1-3 minutes of ?Ad? time to promote your company during each day of the event.&nbsp\; Pre-recorded for a polished presentation</div>\n\n<div>?<span style="white-space:pre"> </span>Company logo on all advanced marketing materials\, including event registration&nbsp\;</div>\n\n<div>?<span style="white-space:pre"> </span>Chamber Intel ads and the event promotion on the Palm Bay Chamber Website</div>\n\n<div>?<span style="white-space:pre"> </span>Logo advertising on the Chamber?s digital outdoor sign for three weeks</div>\n\n<div>?<span style="white-space:pre"> </span>Advertising of event with your logo on EveryThingBrevard.com and Spotlight Magazine as Presenting Sponsor</div>\n\n<div>?<span style="white-space:pre"> </span>Advertising of event with your logo in Hometown News as Presenting Sponsor</div>\n\n<div>?<span style="white-space:pre"> </span>3 Social Media posts</div>\n\n<div>?<span style="white-space:pre"> </span>Email blast of a company one-page ad</div>\n\n<div>?<span style="white-space:pre"> </span>Sponsor logo on slide at the beginning and end of the event seen on Facebook Live</div>\n\n<div>?<span style="white-space:pre"> </span>Placement of brochures and information in virtual swag bag &amp\; for the ?in-person? swag bags</div>\n\n<div>?<span style="white-space:pre"> </span>Vitas logoed Pedometers given out at in-person events Monday ? Thursday and people can come into the Chamber office to pick them up afterwards for more advertising</div>\n\n<div>?<span style="white-space:pre"> </span>Opportunity to hand out materials at each in-person activity</div>\n\n<div>&nbsp\;</div>\n\n<div><strong>Premium Sponsor $900 Members\, $1\,000 Future Members</strong></div>\n\n<div>&nbsp\;</div>\n\n<div>?<span style="white-space:pre"> </span>1-3 minutes of ?Ad? time to promote your company during each day of the event.&nbsp\; Pre-recorded for a polished presentation</div>\n\n<div>?<span style="white-space:pre"> </span>Company logo on all advanced marketing materials\, including event registration&nbsp\;</div>\n\n<div>?<span style="white-space:pre"> </span>Chamber Intel ads and the event promotion on the Palm Bay Chamber Website</div>\n\n<div>?<span style="white-space:pre"> </span>Logo advertising on the Chamber?s digital outdoor sign for one week</div>\n\n<div>?<span style="white-space:pre"> </span>Advertising of event with your logo on EveryThingBrevard.com&nbsp\;</div>\n\n<div>?<span style="white-space:pre"> </span>Advertising of event with your logo in Hometown News&nbsp\;</div>\n\n<div>?<span style="white-space:pre"> </span>Sponsor logo on slide at the beginning and end of the event seen on Facebook Live</div>\n\n<div>?<span style="white-space:pre"> </span>3 Social Media Posts</div>\n\n<div>?<span style="white-space:pre"> </span>Placement of brochures and information in virtual swag bag and for the ?in-person? swag bags</div>\n\n<div>?<span style="white-space:pre"> </span>Opportunity to hand out materials at each in-person activity</div>\n\n<div>&nbsp\;</div>\n\n<div><strong>Table Host Sponsor $200 Members\, $250 Future Members</strong></div>\n\n<div>&nbsp\;</div>\n\n<div>?<span style="white-space:pre"> </span>1 minute ?Ad? during one day?s webinar</div>\n\n<div>?<span style="white-space:pre"> </span>Sponsor logo on slide at the beginning and end of the event seen on Facebook Live</div>\n\n<div>?<span style="white-space:pre"> </span>Logo on website event page</div>\n\n<div>?<span style="white-space:pre"> </span>3 Social Media Posts for your company</div>\n\n<div>?<span style="white-space:pre"> </span>Placement of brochures and information in virtual swag bag and for the ?in-person? swag bags</div>\n\n<div>?<span style="white-space:pre"> </span>Opportunity to hand out materials at each in-person activity</div>\n\n<div>&nbsp\;</div>\n\n<div><span style="color:#0000CD\;">During the Disaster Recovery Week\, the 5 days videos had a combined viewing of 4\,152\, reaching over 10\,000 people.</span></div>\n\n<div>&nbsp\;</div>\n\n<div><span style="color:#0000CD\;">Back2Business Campaign consisted of 21 videos watched by over 16\,000 people reaching over 30\,000 people.</span></div>\n\n<div>&nbsp\;</div>\n\n<div><span style="color:#0000CD\;">This is a great investment of your marketing dollars!!!&nbsp\;</span></div>\n</div>\n
LOCATION:Tuckaway Shores Resort 1441 S Miramar Ave\, Indialantic\, FL
UID:e.469.15926
SEQUENCE:3
DTSTAMP:20260424T162224Z
URL:https://new.greaterpalmbaychamber.com/events/details/tuesday-turtle-trek-lifestyle-health-wellness-week-15926
END:VEVENT

END:VCALENDAR
